BEGIN:VCALENDAR
VERSION:2.0
PRODID:-//Grace Baptist - ECPv6.15.20//NONSGML v1.0//EN
CALSCALE:GREGORIAN
METHOD:PUBLISH
X-WR-CALNAME:Grace Baptist
X-ORIGINAL-URL:https://gracebaptistfortscott.com
X-WR-CALDESC:Events for Grace Baptist
REFRESH-INTERVAL;VALUE=DURATION:PT1H
X-Robots-Tag:noindex
X-PUBLISHED-TTL:PT1H
BEGIN:VTIMEZONE
TZID:UTC
BEGIN:STANDARD
TZOFFSETFROM:+0000
TZOFFSETTO:+0000
TZNAME:UTC
DTSTART:20240101T000000
END:STANDARD
END:VTIMEZONE
BEGIN:VEVENT
DTSTART;TZID=UTC:20250801T160000
DTEND;TZID=UTC:20250801T233000
DTSTAMP:20260420T083423
CREATED:20250724T151055Z
LAST-MODIFIED:20250724T151055Z
UID:478-1754064000-1754091000@gracebaptistfortscott.com
SUMMARY:Springfield Cardinals Baseball game
DESCRIPTION:We will leave the church at 4pm and return around 11:30pm. The cost is $15 per person plus food money.
URL:https://gracebaptistfortscott.com/event/springfield-cardinals-baseball-game/
END:VEVENT
END:VCALENDAR