BEGIN:VCALENDAR
VERSION:2.0
PRODID:-//Grace Baptist - ECPv6.15.20//NONSGML v1.0//EN
CALSCALE:GREGORIAN
METHOD:PUBLISH
X-ORIGINAL-URL:https://gracebaptistfortscott.com
X-WR-CALDESC:Events for Grace Baptist
REFRESH-INTERVAL;VALUE=DURATION:PT1H
X-Robots-Tag:noindex
X-PUBLISHED-TTL:PT1H
BEGIN:VTIMEZONE
TZID:UTC
BEGIN:STANDARD
TZOFFSETFROM:+0000
TZOFFSETTO:+0000
TZNAME:UTC
DTSTART:20240101T000000
END:STANDARD
END:VTIMEZONE
BEGIN:VEVENT
DTSTART;TZID=UTC:20250914T100000
DTEND;TZID=UTC:20250914T190000
DTSTAMP:20260421T214204
CREATED:20250724T151844Z
LAST-MODIFIED:20250724T151844Z
UID:484-1757844000-1757876400@gracebaptistfortscott.com
SUMMARY:80th anniversary celebration
DESCRIPTION:Please join us as we celebrate the 80th anniversary of our church. We will have special music and guest speakers that day. Please invite others to join you.
URL:https://gracebaptistfortscott.com/event/80th-anniversary-celebration/
END:VEVENT
END:VCALENDAR