BEGIN:VCALENDAR
VERSION:2.0
PRODID:-//Grace Baptist - ECPv6.15.20//NONSGML v1.0//EN
CALSCALE:GREGORIAN
METHOD:PUBLISH
X-WR-CALNAME:Grace Baptist
X-ORIGINAL-URL:https://gracebaptistfortscott.com
X-WR-CALDESC:Events for Grace Baptist
REFRESH-INTERVAL;VALUE=DURATION:PT1H
X-Robots-Tag:noindex
X-PUBLISHED-TTL:PT1H
BEGIN:VTIMEZONE
TZID:UTC
BEGIN:STANDARD
TZOFFSETFROM:+0000
TZOFFSETTO:+0000
TZNAME:UTC
DTSTART:20200101T000000
END:STANDARD
END:VTIMEZONE
BEGIN:VEVENT
DTSTART;TZID=UTC:20210114T180000
DTEND;TZID=UTC:20210114T200000
DTSTAMP:20260422T002440
CREATED:20210105T184118Z
LAST-MODIFIED:20210105T184118Z
UID:178-1610647200-1610654400@gracebaptistfortscott.com
SUMMARY:Bearing Precious Seed
DESCRIPTION:Bearing Precious Seed is a Scripture ministry that collates\, staples\, and cuts books of John and Romans in different languages to be sent around the world.
URL:https://gracebaptistfortscott.com/event/bearing-precious-seed-2/
END:VEVENT
BEGIN:VEVENT
DTSTART;TZID=UTC:20210111T100000
DTEND;TZID=UTC:20210111T110000
DTSTAMP:20260422T002440
CREATED:20210105T163455Z
LAST-MODIFIED:20210105T163721Z
UID:144-1610359200-1610362800@gracebaptistfortscott.com
SUMMARY:Handfuls of Purpose
DESCRIPTION:Handfuls of Purpose ministry is a time of prayer and writing cards of encouragement.  All are welcome to come.
URL:https://gracebaptistfortscott.com/event/handfuls-of-purpose-2/
LOCATION:Grace Baptist
END:VEVENT
BEGIN:VEVENT
DTSTART;TZID=UTC:20210110T180000
DTEND;TZID=UTC:20210110T190000
DTSTAMP:20260422T002440
CREATED:20210105T182908Z
LAST-MODIFIED:20210105T182908Z
UID:162-1610301600-1610305200@gracebaptistfortscott.com
SUMMARY:Missionary David Diehl- Panama
DESCRIPTION:
URL:https://gracebaptistfortscott.com/event/missionary-david-diehl-panama/
END:VEVENT
BEGIN:VEVENT
DTSTART;TZID=UTC:20210107T180000
DTEND;TZID=UTC:20210107T200000
DTSTAMP:20260422T002440
CREATED:20210105T184041Z
LAST-MODIFIED:20210105T184041Z
UID:176-1610042400-1610049600@gracebaptistfortscott.com
SUMMARY:Bearing Precious Seed
DESCRIPTION:Bearing Precious Seed is a Scripture ministry that collates\, staples\, and cuts books of John and Romans in different languages to be sent around the world.
URL:https://gracebaptistfortscott.com/event/bearing-precious-seed/
END:VEVENT
END:VCALENDAR